Workbook

Sheet Отчёт за смену
A1: Отчёт мастера за смену
A3: Дата | D3: Смена | E3: 1-я | G3: Участок | I3: Гибка | K3: Мастер | L3: Мастер гибки
A4: Людей на участке | C4: 1 | D4: Часов в смене | E4: 8 | G4: Фонд времени, ч | I4: =IF(OR(C4="",E4=""),"",C4*E4)
A6: № | B6: Участок | C6: Заказ | D6: Деталь | E6: Операция | F6: План, мин | G6: Факт, мин | H6: Простой, мин | I6: Сделано, шт | J6: Из, шт | K6: Статус | L6: Причина | M6: Подробно | N6: Передать, мин | O6: Порядок передачи
A7: 1 | B7: Гибка | C7: 26-031 | D7: Тетива | E7: Гибка | F7: 90 | G7: 90 | H7: 0 | I7: 2 | J7: 2 | K7: =IF(J7="","",IF(I7>=J7,"Закрыто",IF(I7=0,"Не начато","Не закрыто"))) | N7: =IF(OR(J7="",K7="Закрыто"),"",(J7-I7)*F7/J7) | O7: =IF(OR(J7="",K7="Закрыто"),"",COUNT(O$6:O6)+1)
A8: 2 | B8: Гибка | C8: 26-031 | D8: Ступень | E8: Гибка | F8: 360 | G8: 350 | H8: 40 | I8: 11 | J8: 12 | K8: =IF(J8="","",IF(I8>=J8,"Закрыто",IF(I8=0,"Не начато","Не закрыто"))) | L8: Оборудование | M8: сломался прижим, 40 мин простоя | N8: =IF(OR(J8="",K8="Закрыто"),"",(J8-I8)*F8/J8) | O8: =IF(OR(J8="",K8="Закрыто"),"",COUNT(O$6:O7)+1)
A9: 3 | B9: Гибка | C9: 26-034 | D9: Дверь техническая | E9: Гибка | F9: 120 | G9: 0 | H9: 0 | I9: 0 | J9: 6 | K9: =IF(J9="","",IF(I9>=J9,"Закрыто",IF(I9=0,"Не начато","Не закрыто"))) | L9: Снято мастером / перегруз | M9: перенесена — перегруз | N9: =IF(OR(J9="",K9="Закрыто"),"",(J9-I9)*F9/J9) | O9: =IF(OR(J9="",K9="Закрыто"),"",COUNT(O$6:O8)+1)
A10: 4 | K10: =IF(J10="","",IF(I10>=J10,"Закрыто",IF(I10=0,"Не начато","Не закрыто"))) | N10: =IF(OR(J10="",K10="Закрыто"),"",(J10-I10)*F10/J10) | O10: =IF(OR(J10="",K10="Закрыто"),"",COUNT(O$6:O9)+1)
A11: 5 | K11: =IF(J11="","",IF(I11>=J11,"Закрыто",IF(I11=0,"Не начато","Не закрыто"))) | N11: =IF(OR(J11="",K11="Закрыто"),"",(J11-I11)*F11/J11) | O11: =IF(OR(J11="",K11="Закрыто"),"",COUNT(O$6:O10)+1)
A12: 6 | K12: =IF(J12="","",IF(I12>=J12,"Закрыто",IF(I12=0,"Не начато","Не закрыто"))) | N12: =IF(OR(J12="",K12="Закрыто"),"",(J12-I12)*F12/J12) | O12: =IF(OR(J12="",K12="Закрыто"),"",COUNT(O$6:O11)+1)
A13: 7 | K13: =IF(J13="","",IF(I13>=J13,"Закрыто",IF(I13=0,"Не начато","Не закрыто"))) | N13: =IF(OR(J13="",K13="Закрыто"),"",(J13-I13)*F13/J13) | O13: =IF(OR(J13="",K13="Закрыто"),"",COUNT(O$6:O12)+1)
A14: 8 | K14: =IF(J14="","",IF(I14>=J14,"Закрыто",IF(I14=0,"Не начато","Не закрыто"))) | N14: =IF(OR(J14="",K14="Закрыто"),"",(J14-I14)*F14/J14) | O14: =IF(OR(J14="",K14="Закрыто"),"",COUNT(O$6:O13)+1)
A15: 9 | K15: =IF(J15="","",IF(I15>=J15,"Закрыто",IF(I15=0,"Не начато","Не закрыто"))) | N15: =IF(OR(J15="",K15="Закрыто"),"",(J15-I15)*F15/J15) | O15: =IF(OR(J15="",K15="Закрыто"),"",COUNT(O$6:O14)+1)
A16: 10 | K16: =IF(J16="","",IF(I16>=J16,"Закрыто",IF(I16=0,"Не начато","Не закрыто"))) | N16: =IF(OR(J16="",K16="Закрыто"),"",(J16-I16)*F16/J16) | O16: =IF(OR(J16="",K16="Закрыто"),"",COUNT(O$6:O15)+1)
A17: 11 | K17: =IF(J17="","",IF(I17>=J17,"Закрыто",IF(I17=0,"Не начато","Не закрыто"))) | N17: =IF(OR(J17="",K17="Закрыто"),"",(J17-I17)*F17/J17) | O17: =IF(OR(J17="",K17="Закрыто"),"",COUNT(O$6:O16)+1)
A18: 12 | K18: =IF(J18="","",IF(I18>=J18,"Закрыто",IF(I18=0,"Не начато","Не закрыто"))) | N18: =IF(OR(J18="",K18="Закрыто"),"",(J18-I18)*F18/J18) | O18: =IF(OR(J18="",K18="Закрыто"),"",COUNT(O$6:O17)+1)
A19: 13 | K19: =IF(J19="","",IF(I19>=J19,"Закрыто",IF(I19=0,"Не начато","Не закрыто"))) | N19: =IF(OR(J19="",K19="Закрыто"),"",(J19-I19)*F19/J19) | O19: =IF(OR(J19="",K19="Закрыто"),"",COUNT(O$6:O18)+1)
A20: 14 | K20: =IF(J20="","",IF(I20>=J20,"Закрыто",IF(I20=0,"Не начато","Не закрыто"))) | N20: =IF(OR(J20="",K20="Закрыто"),"",(J20-I20)*F20/J20) | O20: =IF(OR(J20="",K20="Закрыто"),"",COUNT(O$6:O19)+1)
A21: 15 | K21: =IF(J21="","",IF(I21>=J21,"Закрыто",IF(I21=0,"Не начато","Не закрыто"))) | N21: =IF(OR(J21="",K21="Закрыто"),"",(J21-I21)*F21/J21) | O21: =IF(OR(J21="",K21="Закрыто"),"",COUNT(O$6:O20)+1)
A23: План в смену, мин (без снятых строк) | G23: =SUM(F7:F21)-SUMIF(L7:L21,'Причины'!$B$8,F7:F21)
A24: В работе, мин | G24: =SUM(G7:G21)
A25: Простой, мин | G25: =SUM(H7:H21)
A26: В работе и простой вместе, мин | G26: =G24+G25
A27: Фонд смены, мин | G27: =IF(I4="","",I4*60)
A28: Сходится с фондом времени | G28: =IF(G27="","",IF(G26=G27,"да","нет — проверьте минуты"))
A29: Закрыто строк | G29: =COUNTIF(K7:K21,"Закрыто")&" из "&COUNT(J7:J21)
A30: Передать следующей смене, мин | G30: =SUM(N7:N21)

Sheet Передача смены
A1: Передача следующей смене
A2: Участок | C2: ='Отчёт за смену'!I3
A3: Эти строки ставятся первыми в задание на следующую смену. Всё считается из листа «Отчёт за смену».
A5: № | B5: Заказ | C5: Деталь | D5: Операция | E5: Осталось, шт | F5: Норма, мин/шт | G5: Минут | H5: Причина | I5: Подробно
A6: 1 | B6: =IFERROR(INDEX('Отчёт за смену'!C$7:C$21,MATCH($A6,'Отчёт за смену'!$O$7:$O$21,0)),"") | C6: =IFERROR(INDEX('Отчёт за смену'!D$7:D$21,MATCH($A6,'Отчёт за смену'!$O$7:$O$21,0)),"") | D6: =IFERROR(INDEX('Отчёт за смену'!E$7:E$21,MATCH($A6,'Отчёт за смену'!$O$7:$O$21,0)),"") | E6: =IFERROR(INDEX('Отчёт за смену'!J$7:J$21,MATCH($A6,'Отчёт за смену'!$O$7:$O$21,0))-INDEX('Отчёт за смену'!I$7:I$21,MATCH($A6,'Отчёт за смену'!$O$7:$O$21,0)),"") | F6: =IFERROR(INDEX('Отчёт за смену'!F$7:F$21,MATCH($A6,'Отчёт за смену'!$O$7:$O$21,0))/INDEX('Отчёт за смену'!J$7:J$21,MATCH($A6,'Отчёт за смену'!$O$7:$O$21,0)),"") | G6: =IF(E6="","",E6*F6) | H6: =IFERROR(INDEX('Отчёт за смену'!L$7:L$21,MATCH($A6,'Отчёт за смену'!$O$7:$O$21,0))&"","") | I6: =IFERROR(INDEX('Отчёт за смену'!M$7:M$21,MATCH($A6,'Отчёт за смену'!$O$7:$O$21,0))&"","")
A7: 2 | B7: =IFERROR(INDEX('Отчёт за смену'!C$7:C$21,MATCH($A7,'Отчёт за смену'!$O$7:$O$21,0)),"") | C7: =IFERROR(INDEX('Отчёт за смену'!D$7:D$21,MATCH($A7,'Отчёт за смену'!$O$7:$O$21,0)),"") | D7: =IFERROR(INDEX('Отчёт за смену'!E$7:E$21,MATCH($A7,'Отчёт за смену'!$O$7:$O$21,0)),"") | E7: =IFERROR(INDEX('Отчёт за смену'!J$7:J$21,MATCH($A7,'Отчёт за смену'!$O$7:$O$21,0))-INDEX('Отчёт за смену'!I$7:I$21,MATCH($A7,'Отчёт за смену'!$O$7:$O$21,0)),"") | F7: =IFERROR(INDEX('Отчёт за смену'!F$7:F$21,MATCH($A7,'Отчёт за смену'!$O$7:$O$21,0))/INDEX('Отчёт за смену'!J$7:J$21,MATCH($A7,'Отчёт за смену'!$O$7:$O$21,0)),"") | G7: =IF(E7="","",E7*F7) | H7: =IFERROR(INDEX('Отчёт за смену'!L$7:L$21,MATCH($A7,'Отчёт за смену'!$O$7:$O$21,0))&"","") | I7: =IFERROR(INDEX('Отчёт за смену'!M$7:M$21,MATCH($A7,'Отчёт за смену'!$O$7:$O$21,0))&"","")
A8: 3 | B8: =IFERROR(INDEX('Отчёт за смену'!C$7:C$21,MATCH($A8,'Отчёт за смену'!$O$7:$O$21,0)),"") | C8: =IFERROR(INDEX('Отчёт за смену'!D$7:D$21,MATCH($A8,'Отчёт за смену'!$O$7:$O$21,0)),"") | D8: =IFERROR(INDEX('Отчёт за смену'!E$7:E$21,MATCH($A8,'Отчёт за смену'!$O$7:$O$21,0)),"") | E8: =IFERROR(INDEX('Отчёт за смену'!J$7:J$21,MATCH($A8,'Отчёт за смену'!$O$7:$O$21,0))-INDEX('Отчёт за смену'!I$7:I$21,MATCH($A8,'Отчёт за смену'!$O$7:$O$21,0)),"") | F8: =IFERROR(INDEX('Отчёт за смену'!F$7:F$21,MATCH($A8,'Отчёт за смену'!$O$7:$O$21,0))/INDEX('Отчёт за смену'!J$7:J$21,MATCH($A8,'Отчёт за смену'!$O$7:$O$21,0)),"") | G8: =IF(E8="","",E8*F8) | H8: =IFERROR(INDEX('Отчёт за смену'!L$7:L$21,MATCH($A8,'Отчёт за смену'!$O$7:$O$21,0))&"","") | I8: =IFERROR(INDEX('Отчёт за смену'!M$7:M$21,MATCH($A8,'Отчёт за смену'!$O$7:$O$21,0))&"","")
A9: 4 | B9: =IFERROR(INDEX('Отчёт за смену'!C$7:C$21,MATCH($A9,'Отчёт за смену'!$O$7:$O$21,0)),"") | C9: =IFERROR(INDEX('Отчёт за смену'!D$7:D$21,MATCH($A9,'Отчёт за смену'!$O$7:$O$21,0)),"") | D9: =IFERROR(INDEX('Отчёт за смену'!E$7:E$21,MATCH($A9,'Отчёт за смену'!$O$7:$O$21,0)),"") | E9: =IFERROR(INDEX('Отчёт за смену'!J$7:J$21,MATCH($A9,'Отчёт за смену'!$O$7:$O$21,0))-INDEX('Отчёт за смену'!I$7:I$21,MATCH($A9,'Отчёт за смену'!$O$7:$O$21,0)),"") | F9: =IFERROR(INDEX('Отчёт за смену'!F$7:F$21,MATCH($A9,'Отчёт за смену'!$O$7:$O$21,0))/INDEX('Отчёт за смену'!J$7:J$21,MATCH($A9,'Отчёт за смену'!$O$7:$O$21,0)),"") | G9: =IF(E9="","",E9*F9) | H9: =IFERROR(INDEX('Отчёт за смену'!L$7:L$21,MATCH($A9,'Отчёт за смену'!$O$7:$O$21,0))&"","") | I9: =IFERROR(INDEX('Отчёт за смену'!M$7:M$21,MATCH($A9,'Отчёт за смену'!$O$7:$O$21,0))&"","")
A10: 5 | B10: =IFERROR(INDEX('Отчёт за смену'!C$7:C$21,MATCH($A10,'Отчёт за смену'!$O$7:$O$21,0)),"") | C10: =IFERROR(INDEX('Отчёт за смену'!D$7:D$21,MATCH($A10,'Отчёт за смену'!$O$7:$O$21,0)),"") | D10: =IFERROR(INDEX('Отчёт за смену'!E$7:E$21,MATCH($A10,'Отчёт за смену'!$O$7:$O$21,0)),"") | E10: =IFERROR(INDEX('Отчёт за смену'!J$7:J$21,MATCH($A10,'Отчёт за смену'!$O$7:$O$21,0))-INDEX('Отчёт за смену'!I$7:I$21,MATCH($A10,'Отчёт за смену'!$O$7:$O$21,0)),"") | F10: =IFERROR(INDEX('Отчёт за смену'!F$7:F$21,MATCH($A10,'Отчёт за смену'!$O$7:$O$21,0))/INDEX('Отчёт за смену'!J$7:J$21,MATCH($A10,'Отчёт за смену'!$O$7:$O$21,0)),"") | G10: =IF(E10="","",E10*F10) | H10: =IFERROR(INDEX('Отчёт за смену'!L$7:L$21,MATCH($A10,'Отчёт за смену'!$O$7:$O$21,0))&"","") | I10: =IFERROR(INDEX('Отчёт за смену'!M$7:M$21,MATCH($A10,'Отчёт за смену'!$O$7:$O$21,0))&"","")
A11: 6 | B11: =IFERROR(INDEX('Отчёт за смену'!C$7:C$21,MATCH($A11,'Отчёт за смену'!$O$7:$O$21,0)),"") | C11: =IFERROR(INDEX('Отчёт за смену'!D$7:D$21,MATCH($A11,'Отчёт за смену'!$O$7:$O$21,0)),"") | D11: =IFERROR(INDEX('Отчёт за смену'!E$7:E$21,MATCH($A11,'Отчёт за смену'!$O$7:$O$21,0)),"") | E11: =IFERROR(INDEX('Отчёт за смену'!J$7:J$21,MATCH($A11,'Отчёт за смену'!$O$7:$O$21,0))-INDEX('Отчёт за смену'!I$7:I$21,MATCH($A11,'Отчёт за смену'!$O$7:$O$21,0)),"") | F11: =IFERROR(INDEX('Отчёт за смену'!F$7:F$21,MATCH($A11,'Отчёт за смену'!$O$7:$O$21,0))/INDEX('Отчёт за смену'!J$7:J$21,MATCH($A11,'Отчёт за смену'!$O$7:$O$21,0)),"") | G11: =IF(E11="","",E11*F11) | H11: =IFERROR(INDEX('Отчёт за смену'!L$7:L$21,MATCH($A11,'Отчёт за смену'!$O$7:$O$21,0))&"","") | I11: =IFERROR(INDEX('Отчёт за смену'!M$7:M$21,MATCH($A11,'Отчёт за смену'!$O$7:$O$21,0))&"","")
A12: 7 | B12: =IFERROR(INDEX('Отчёт за смену'!C$7:C$21,MATCH($A12,'Отчёт за смену'!$O$7:$O$21,0)),"") | C12: =IFERROR(INDEX('Отчёт за смену'!D$7:D$21,MATCH($A12,'Отчёт за смену'!$O$7:$O$21,0)),"") | D12: =IFERROR(INDEX('Отчёт за смену'!E$7:E$21,MATCH($A12,'Отчёт за смену'!$O$7:$O$21,0)),"") | E12: =IFERROR(INDEX('Отчёт за смену'!J$7:J$21,MATCH($A12,'Отчёт за смену'!$O$7:$O$21,0))-INDEX('Отчёт за смену'!I$7:I$21,MATCH($A12,'Отчёт за смену'!$O$7:$O$21,0)),"") | F12: =IFERROR(INDEX('Отчёт за смену'!F$7:F$21,MATCH($A12,'Отчёт за смену'!$O$7:$O$21,0))/INDEX('Отчёт за смену'!J$7:J$21,MATCH($A12,'Отчёт за смену'!$O$7:$O$21,0)),"") | G12: =IF(E12="","",E12*F12) | H12: =IFERROR(INDEX('Отчёт за смену'!L$7:L$21,MATCH($A12,'Отчёт за смену'!$O$7:$O$21,0))&"","") | I12: =IFERROR(INDEX('Отчёт за смену'!M$7:M$21,MATCH($A12,'Отчёт за смену'!$O$7:$O$21,0))&"","")
A13: 8 | B13: =IFERROR(INDEX('Отчёт за смену'!C$7:C$21,MATCH($A13,'Отчёт за смену'!$O$7:$O$21,0)),"") | C13: =IFERROR(INDEX('Отчёт за смену'!D$7:D$21,MATCH($A13,'Отчёт за смену'!$O$7:$O$21,0)),"") | D13: =IFERROR(INDEX('Отчёт за смену'!E$7:E$21,MATCH($A13,'Отчёт за смену'!$O$7:$O$21,0)),"") | E13: =IFERROR(INDEX('Отчёт за смену'!J$7:J$21,MATCH($A13,'Отчёт за смену'!$O$7:$O$21,0))-INDEX('Отчёт за смену'!I$7:I$21,MATCH($A13,'Отчёт за смену'!$O$7:$O$21,0)),"") | F13: =IFERROR(INDEX('Отчёт за смену'!F$7:F$21,MATCH($A13,'Отчёт за смену'!$O$7:$O$21,0))/INDEX('Отчёт за смену'!J$7:J$21,MATCH($A13,'Отчёт за смену'!$O$7:$O$21,0)),"") | G13: =IF(E13="","",E13*F13) | H13: =IFERROR(INDEX('Отчёт за смену'!L$7:L$21,MATCH($A13,'Отчёт за смену'!$O$7:$O$21,0))&"","") | I13: =IFERROR(INDEX('Отчёт за смену'!M$7:M$21,MATCH($A13,'Отчёт за смену'!$O$7:$O$21,0))&"","")
A14: 9 | B14: =IFERROR(INDEX('Отчёт за смену'!C$7:C$21,MATCH($A14,'Отчёт за смену'!$O$7:$O$21,0)),"") | C14: =IFERROR(INDEX('Отчёт за смену'!D$7:D$21,MATCH($A14,'Отчёт за смену'!$O$7:$O$21,0)),"") | D14: =IFERROR(INDEX('Отчёт за смену'!E$7:E$21,MATCH($A14,'Отчёт за смену'!$O$7:$O$21,0)),"") | E14: =IFERROR(INDEX('Отчёт за смену'!J$7:J$21,MATCH($A14,'Отчёт за смену'!$O$7:$O$21,0))-INDEX('Отчёт за смену'!I$7:I$21,MATCH($A14,'Отчёт за смену'!$O$7:$O$21,0)),"") | F14: =IFERROR(INDEX('Отчёт за смену'!F$7:F$21,MATCH($A14,'Отчёт за смену'!$O$7:$O$21,0))/INDEX('Отчёт за смену'!J$7:J$21,MATCH($A14,'Отчёт за смену'!$O$7:$O$21,0)),"") | G14: =IF(E14="","",E14*F14) | H14: =IFERROR(INDEX('Отчёт за смену'!L$7:L$21,MATCH($A14,'Отчёт за смену'!$O$7:$O$21,0))&"","") | I14: =IFERROR(INDEX('Отчёт за смену'!M$7:M$21,MATCH($A14,'Отчёт за смену'!$O$7:$O$21,0))&"","")
A15: 10 | B15: =IFERROR(INDEX('Отчёт за смену'!C$7:C$21,MATCH($A15,'Отчёт за смену'!$O$7:$O$21,0)),"") | C15: =IFERROR(INDEX('Отчёт за смену'!D$7:D$21,MATCH($A15,'Отчёт за смену'!$O$7:$O$21,0)),"") | D15: =IFERROR(INDEX('Отчёт за смену'!E$7:E$21,MATCH($A15,'Отчёт за смену'!$O$7:$O$21,0)),"") | E15: =IFERROR(INDEX('Отчёт за смену'!J$7:J$21,MATCH($A15,'Отчёт за смену'!$O$7:$O$21,0))-INDEX('Отчёт за смену'!I$7:I$21,MATCH($A15,'Отчёт за смену'!$O$7:$O$21,0)),"") | F15: =IFERROR(INDEX('Отчёт за смену'!F$7:F$21,MATCH($A15,'Отчёт за смену'!$O$7:$O$21,0))/INDEX('Отчёт за смену'!J$7:J$21,MATCH($A15,'Отчёт за смену'!$O$7:$O$21,0)),"") | G15: =IF(E15="","",E15*F15) | H15: =IFERROR(INDEX('Отчёт за смену'!L$7:L$21,MATCH($A15,'Отчёт за смену'!$O$7:$O$21,0))&"","") | I15: =IFERROR(INDEX('Отчёт за смену'!M$7:M$21,MATCH($A15,'Отчёт за смену'!$O$7:$O$21,0))&"","")
A16: 11 | B16: =IFERROR(INDEX('Отчёт за смену'!C$7:C$21,MATCH($A16,'Отчёт за смену'!$O$7:$O$21,0)),"") | C16: =IFERROR(INDEX('Отчёт за смену'!D$7:D$21,MATCH($A16,'Отчёт за смену'!$O$7:$O$21,0)),"") | D16: =IFERROR(INDEX('Отчёт за смену'!E$7:E$21,MATCH($A16,'Отчёт за смену'!$O$7:$O$21,0)),"") | E16: =IFERROR(INDEX('Отчёт за смену'!J$7:J$21,MATCH($A16,'Отчёт за смену'!$O$7:$O$21,0))-INDEX('Отчёт за смену'!I$7:I$21,MATCH($A16,'Отчёт за смену'!$O$7:$O$21,0)),"") | F16: =IFERROR(INDEX('Отчёт за смену'!F$7:F$21,MATCH($A16,'Отчёт за смену'!$O$7:$O$21,0))/INDEX('Отчёт за смену'!J$7:J$21,MATCH($A16,'Отчёт за смену'!$O$7:$O$21,0)),"") | G16: =IF(E16="","",E16*F16) | H16: =IFERROR(INDEX('Отчёт за смену'!L$7:L$21,MATCH($A16,'Отчёт за смену'!$O$7:$O$21,0))&"","") | I16: =IFERROR(INDEX('Отчёт за смену'!M$7:M$21,MATCH($A16,'Отчёт за смену'!$O$7:$O$21,0))&"","")
A17: 12 | B17: =IFERROR(INDEX('Отчёт за смену'!C$7:C$21,MATCH($A17,'Отчёт за смену'!$O$7:$O$21,0)),"") | C17: =IFERROR(INDEX('Отчёт за смену'!D$7:D$21,MATCH($A17,'Отчёт за смену'!$O$7:$O$21,0)),"") | D17: =IFERROR(INDEX('Отчёт за смену'!E$7:E$21,MATCH($A17,'Отчёт за смену'!$O$7:$O$21,0)),"") | E17: =IFERROR(INDEX('Отчёт за смену'!J$7:J$21,MATCH($A17,'Отчёт за смену'!$O$7:$O$21,0))-INDEX('Отчёт за смену'!I$7:I$21,MATCH($A17,'Отчёт за смену'!$O$7:$O$21,0)),"") | F17: =IFERROR(INDEX('Отчёт за смену'!F$7:F$21,MATCH($A17,'Отчёт за смену'!$O$7:$O$21,0))/INDEX('Отчёт за смену'!J$7:J$21,MATCH($A17,'Отчёт за смену'!$O$7:$O$21,0)),"") | G17: =IF(E17="","",E17*F17) | H17: =IFERROR(INDEX('Отчёт за смену'!L$7:L$21,MATCH($A17,'Отчёт за смену'!$O$7:$O$21,0))&"","") | I17: =IFERROR(INDEX('Отчёт за смену'!M$7:M$21,MATCH($A17,'Отчёт за смену'!$O$7:$O$21,0))&"","")
... A20: 15 | B20: =IFERROR(INDEX('Отчёт за смену'!C$7:C$21,MATCH($A20,'Отчёт за смену'!$O$7:$O$21,0)),"") | C20: =IFERROR(INDEX('Отчёт за смену'!D$7:D$21,MATCH($A20,'Отчёт за смену'!$O$7:$O$21,0)),"") | D20: =IFERROR(INDEX('Отчёт за смену'!E$7:E$21,MATCH($A20,'Отчёт за смену'!$O$7:$O$21,0)),"") | E20: =IFERROR(INDEX('Отчёт за смену'!J$7:J$21,MATCH($A20,'Отчёт за смену'!$O$7:$O$21,0))-INDEX('Отчёт за смену'!I$7:I$21,MATCH($A20,'Отчёт за смену'!$O$7:$O$21,0)),"") | F20: =IFERROR(INDEX('Отчёт за смену'!F$7:F$21,MATCH($A20,'Отчёт за смену'!$O$7:$O$21,0))/INDEX('Отчёт за смену'!J$7:J$21,MATCH($A20,'Отчёт за смену'!$O$7:$O$21,0)),"") | G20: =IF(E20="","",E20*F20) | H20: =IFERROR(INDEX('Отчёт за смену'!L$7:L$21,MATCH($A20,'Отчёт за смену'!$O$7:$O$21,0))&"","") | I20: =IFERROR(INDEX('Отчёт за смену'!M$7:M$21,MATCH($A20,'Отчёт за смену'!$O$7:$O$21,0))&"","")
A22: Итого передать, мин | G22: =SUM(G6:G20)

Sheet Причины
A1: Справочник причин
A2: № | B2: Причина | C2: Когда ставить
A3: 1 | B3: Оборудование | C3: Встал станок, оснастка или инструмент.
A4: 2 | B4: Материал | C4: На участке не оказалось заготовки или листа.
A5: 3 | B5: Ждали предыдущую операцию | C5: Детали не пришли с прошлого участка.
A6: 4 | B6: Переделка / брак | C6: Часть смены ушла на исправление.
A7: 5 | B7: Нет исполнителя | C7: Человека не было или его забрали на другую работу.
A8: 6 | B8: Снято мастером / перегруз | C8: Строку сняли, чтобы задание влезло в смену.
A10: Список можно поправить под свой цех: выбор на первом листе берётся отсюда.

Sheet Как заполнять
A1: Как заполнять отчёт
A3: 1 | B3: Перенесите строки из задания на смену: участок, заказ, деталь, операцию и план в минутах.
A4: 2 | B4: Вечером впишите факт в минутах, простой, сколько штук сделано и из скольких — статус посчитается сам.
A5: 3 | B5: Для каждой незакрытой строки выберите причину из списка и коротко допишите подробности.
A6: 4 | B6: Проверьте внизу: факт и простой вместе должны сойтись с фондом времени смены.
A7: 5 | B7: Лист «Передача смены» соберёт незакрытое — поставьте эти строки первыми в задание на завтра.
B9: Когда такой отчёт приходится каждый вечер собирать заново, посмотрите Цех360: https://ceh360.ru/kontrol-proizvodstva?utm_source=blog&utm_medium=xlsx&utm_campaign=otchet-mastera-smeny
