Workbook

Sheet Расчёт
A1: Расчёт трудозатрат на заказ
A3: Участок | B3: Деталь/операция | C3: Кол-во, шт | D3: Норма, мин/шт | E3: Наладка, мин | F3: Минут | G3: Часов | H3: Ставка, ₽/ч | I3: Стоимость
F4: =IF(OR(C4="",D4=""),"",C4*D4+IF(E4="",0,E4)) | G4: =IF(F4="","",F4/60) | I4: =IF(OR(G4="",H4=""),"",G4*H4)
F5: =IF(OR(C5="",D5=""),"",C5*D5+IF(E5="",0,E5)) | G5: =IF(F5="","",F5/60) | I5: =IF(OR(G5="",H5=""),"",G5*H5)
F6: =IF(OR(C6="",D6=""),"",C6*D6+IF(E6="",0,E6)) | G6: =IF(F6="","",F6/60) | I6: =IF(OR(G6="",H6=""),"",G6*H6)
F7: =IF(OR(C7="",D7=""),"",C7*D7+IF(E7="",0,E7)) | G7: =IF(F7="","",F7/60) | I7: =IF(OR(G7="",H7=""),"",G7*H7)
F8: =IF(OR(C8="",D8=""),"",C8*D8+IF(E8="",0,E8)) | G8: =IF(F8="","",F8/60) | I8: =IF(OR(G8="",H8=""),"",G8*H8)
F9: =IF(OR(C9="",D9=""),"",C9*D9+IF(E9="",0,E9)) | G9: =IF(F9="","",F9/60) | I9: =IF(OR(G9="",H9=""),"",G9*H9)
F10: =IF(OR(C10="",D10=""),"",C10*D10+IF(E10="",0,E10)) | G10: =IF(F10="","",F10/60) | I10: =IF(OR(G10="",H10=""),"",G10*H10)
F11: =IF(OR(C11="",D11=""),"",C11*D11+IF(E11="",0,E11)) | G11: =IF(F11="","",F11/60) | I11: =IF(OR(G11="",H11=""),"",G11*H11)
F12: =IF(OR(C12="",D12=""),"",C12*D12+IF(E12="",0,E12)) | G12: =IF(F12="","",F12/60) | I12: =IF(OR(G12="",H12=""),"",G12*H12)
F13: =IF(OR(C13="",D13=""),"",C13*D13+IF(E13="",0,E13)) | G13: =IF(F13="","",F13/60) | I13: =IF(OR(G13="",H13=""),"",G13*H13)
F14: =IF(OR(C14="",D14=""),"",C14*D14+IF(E14="",0,E14)) | G14: =IF(F14="","",F14/60) | I14: =IF(OR(G14="",H14=""),"",G14*H14)
F15: =IF(OR(C15="",D15=""),"",C15*D15+IF(E15="",0,E15)) | G15: =IF(F15="","",F15/60) | I15: =IF(OR(G15="",H15=""),"",G15*H15)
... F33: =IF(OR(C33="",D33=""),"",C33*D33+IF(E33="",0,E33)) | G33: =IF(F33="","",F33/60) | I33: =IF(OR(G33="",H33=""),"",G33*H33)
A34: Свод по участкам
A35: Участок | B35: Часов | C35: Стоимость, ₽
A36: Раскрой | B36: =SUMIF($A$4:$A$33,A36,$G$4:$G$33) | C36: =SUMIF($A$4:$A$33,A36,$I$4:$I$33)
A37: Гибка | B37: =SUMIF($A$4:$A$33,A37,$G$4:$G$33) | C37: =SUMIF($A$4:$A$33,A37,$I$4:$I$33)
A38: Сварка | B38: =SUMIF($A$4:$A$33,A38,$G$4:$G$33) | C38: =SUMIF($A$4:$A$33,A38,$I$4:$I$33)
A39: Покраска | B39: =SUMIF($A$4:$A$33,A39,$G$4:$G$33) | C39: =SUMIF($A$4:$A$33,A39,$I$4:$I$33)
A40: Контроль | B40: =SUMIF($A$4:$A$33,A40,$G$4:$G$33) | C40: =SUMIF($A$4:$A$33,A40,$I$4:$I$33)
A41: Итого | B41: =SUM(B36:B40) | C41: =SUM(C36:C40)

Sheet Образец
A1: Образец: заказ 26-031 «Лестница маршевая»
A3: Участок | B3: Деталь/операция | C3: Кол-во, шт | D3: Норма, мин/шт | E3: Наладка, мин | F3: Минут | G3: Часов | H3: Ставка, ₽/ч | I3: Стоимость
A4: Раскрой | B4: Тетива | C4: 2 | D4: 60 | E4: 30 | F4: =IF(OR(C4="",D4=""),"",C4*D4+IF(E4="",0,E4)) | G4: =IF(F4="","",F4/60) | H4: 775 | I4: =IF(OR(G4="",H4=""),"",G4*H4)
A5: Раскрой | B5: Ступень | C5: 12 | D5: 20 | E5: 0 | F5: =IF(OR(C5="",D5=""),"",C5*D5+IF(E5="",0,E5)) | G5: =IF(F5="","",F5/60) | H5: 775 | I5: =IF(OR(G5="",H5=""),"",G5*H5)
A6: Раскрой | B6: Ограждение | C6: 1 | D6: 90 | E6: 0 | F6: =IF(OR(C6="",D6=""),"",C6*D6+IF(E6="",0,E6)) | G6: =IF(F6="","",F6/60) | H6: 775 | I6: =IF(OR(G6="",H6=""),"",G6*H6)
A7: Гибка | B7: Тетива | C7: 2 | D7: 45 | E7: 150 | F7: =IF(OR(C7="",D7=""),"",C7*D7+IF(E7="",0,E7)) | G7: =IF(F7="","",F7/60) | H7: 775 | I7: =IF(OR(G7="",H7=""),"",G7*H7)
A8: Гибка | B8: Ступень | C8: 12 | D8: 30 | E8: 0 | F8: =IF(OR(C8="",D8=""),"",C8*D8+IF(E8="",0,E8)) | G8: =IF(F8="","",F8/60) | H8: 775 | I8: =IF(OR(G8="",H8=""),"",G8*H8)
A9: Гибка | B9: Ограждение | C9: 1 | D9: 360 | E9: 0 | F9: =IF(OR(C9="",D9=""),"",C9*D9+IF(E9="",0,E9)) | G9: =IF(F9="","",F9/60) | H9: 775 | I9: =IF(OR(G9="",H9=""),"",G9*H9)
A10: Сварка | B10: Тетива | C10: 2 | D10: 120 | E10: 0 | F10: =IF(OR(C10="",D10=""),"",C10*D10+IF(E10="",0,E10)) | G10: =IF(F10="","",F10/60) | H10: 1070 | I10: =IF(OR(G10="",H10=""),"",G10*H10)
A11: Сварка | B11: Ступень | C11: 12 | D11: 50 | E11: 0 | F11: =IF(OR(C11="",D11=""),"",C11*D11+IF(E11="",0,E11)) | G11: =IF(F11="","",F11/60) | H11: 1070 | I11: =IF(OR(G11="",H11=""),"",G11*H11)
A12: Сварка | B12: Ограждение | C12: 1 | D12: 360 | E12: 0 | F12: =IF(OR(C12="",D12=""),"",C12*D12+IF(E12="",0,E12)) | G12: =IF(F12="","",F12/60) | H12: 1070 | I12: =IF(OR(G12="",H12=""),"",G12*H12)
A13: Покраска | B13: Тетива | C13: 2 | D13: 60 | E13: 0 | F13: =IF(OR(C13="",D13=""),"",C13*D13+IF(E13="",0,E13)) | G13: =IF(F13="","",F13/60) | H13: 955 | I13: =IF(OR(G13="",H13=""),"",G13*H13)
A14: Покраска | B14: Ступень | C14: 12 | D14: 30 | E14: 0 | F14: =IF(OR(C14="",D14=""),"",C14*D14+IF(E14="",0,E14)) | G14: =IF(F14="","",F14/60) | H14: 955 | I14: =IF(OR(G14="",H14=""),"",G14*H14)
A15: Покраска | B15: Ограждение | C15: 1 | D15: 240 | E15: 0 | F15: =IF(OR(C15="",D15=""),"",C15*D15+IF(E15="",0,E15)) | G15: =IF(F15="","",F15/60) | H15: 955 | I15: =IF(OR(G15="",H15=""),"",G15*H15)
... A18: Контроль | B18: Ограждение | C18: 1 | D18: 30 | E18: 0 | F18: =IF(OR(C18="",D18=""),"",C18*D18+IF(E18="",0,E18)) | G18: =IF(F18="","",F18/60) | H18: 800 | I18: =IF(OR(G18="",H18=""),"",G18*H18)
A19: Свод по участкам
A20: Участок | B20: Часов | C20: Стоимость, ₽
A21: Раскрой | B21: =SUMIF($A$4:$A$18,A21,$G$4:$G$18) | C21: =SUMIF($A$4:$A$18,A21,$I$4:$I$18)
A22: Гибка | B22: =SUMIF($A$4:$A$18,A22,$G$4:$G$18) | C22: =SUMIF($A$4:$A$18,A22,$I$4:$I$18)
A23: Сварка | B23: =SUMIF($A$4:$A$18,A23,$G$4:$G$18) | C23: =SUMIF($A$4:$A$18,A23,$I$4:$I$18)
A24: Покраска | B24: =SUMIF($A$4:$A$18,A24,$G$4:$G$18) | C24: =SUMIF($A$4:$A$18,A24,$I$4:$I$18)
A25: Контроль | B25: =SUMIF($A$4:$A$18,A25,$G$4:$G$18) | C25: =SUMIF($A$4:$A$18,A25,$I$4:$I$18)
A26: Итого | B26: =SUM(B21:B25) | C26: =SUM(C21:C25)

Sheet План-факт
A1: Пример: факт условный
A3: Участок | B3: Ставка, ₽/ч | C3: План, ч | D3: Факт, ч | E3: Откл., ч | F3: План, ₽ | G3: Факт, ₽ | H3: Откл., ₽ | I3: Доля от маржи 97 200 ₽
A4: Раскрой | B4: =Образец!H4 | C4: =Образец!B21 | D4: =C4 | E4: =D4-C4 | F4: =Образец!C21 | G4: =D4*B4 | H4: =G4-F4 | I4: =IF(H4=0,0,H4/97200)
A5: Гибка | B5: =Образец!H7 | C5: =Образец!B22 | D5: =C5 | E5: =D5-C5 | F5: =Образец!C22 | G5: =D5*B5 | H5: =G5-F5 | I5: =IF(H5=0,0,H5/97200)
A6: Сварка | B6: =Образец!H10 | C6: =Образец!B23 | D6: 23 | E6: =D6-C6 | F6: =Образец!C23 | G6: =D6*B6 | H6: =G6-F6 | I6: =IF(H6=0,0,H6/97200)
A7: Покраска | B7: =Образец!H13 | C7: =Образец!B24 | D7: =C7 | E7: =D7-C7 | F7: =Образец!C24 | G7: =D7*B7 | H7: =G7-F7 | I7: =IF(H7=0,0,H7/97200)
A8: Контроль | B8: =Образец!H16 | C8: =Образец!B25 | D8: =C8 | E8: =D8-C8 | F8: =Образец!C25 | G8: =D8*B8 | H8: =G8-F8 | I8: =IF(H8=0,0,H8/97200)
A9: Итого | C9: =SUM(C4:C8) | D9: =SUM(D4:D8) | E9: =SUM(E4:E8) | F9: =SUM(F4:F8) | G9: =SUM(G4:G8) | H9: =SUM(H4:H8) | I9: =H9/97200

Sheet Как пользоваться
A1: Как пользоваться расчётом
A4: 1 | B4: На листе «Расчёт» впишите свои строки: участок, деталь или операцию, количество, норму в минутах на штуку, наладку (если есть) и ставку участка — часы и стоимость посчитаются сами.
A5: 2 | B5: Внизу листа — свод по участкам и общий итог, тоже формулами.
A6: 3 | B6: Лист «Образец» — тот же расчёт, заполненный примером из статьи: заказ 26-031, 58,5 ч, 53 460 ₽.
A7: 4 | B7: Лист «План-факт» показывает, что меняется, если факт разошёлся с планом — пример на отклонении по сварке (+3 ч).
A8: 5 | B8: Наладку всегда ставьте одной строкой на участок, не на каждую деталь: она не зависит от количества штук.
B10: Когда расчётов несколько на разных заказах и участках — посмотрите Цех360: https://ceh360.ru/?utm_source=blog&utm_medium=xlsx&utm_campaign=raschet-trudozatrat
